View In:
ArcGIS JavaScript
ArcGIS Online Map Viewer
ArcGIS Earth
ArcGIS Pro
Service Description: <div style='text-align:Left;font-size:12pt'><p><span>Arctic Imagery provides 15m TerraColor imagery for the Arctic region. For more information on this map, including the terms of use, visit us online at https://goto.arcgisonline.com/maps/Arctic_Imagery</span></p></div>
Map Name: Layers
Legend
All Layers and Tables
Layers:
Description: <DIV STYLE="text-align:Left;font-size:12pt"><P><SPAN>Arctic Imagery provides 15m TerraColor imagery for the Arctic region. For more information on this map, including the terms of use, visit us online at https://goto.arcgisonline.com/maps/Arctic_Imagery</SPAN></P></DIV>
Copyright Text: Source: Earthstar Geographics
Spatial Reference:
5936
(5936)
LatestVCSWkid(0)
Single Fused Map Cache: true
Tile Info:
- Height: 256.0
- Width: 256.0
- DPI: 96.0
-
Levels of Detail: 24
-
Level ID: 2
[ Start Tile, End Tile ]
- Resolution: 59702.7033384999
- Scale: 2.25647561321927E8
-
Level ID: 3
[ Start Tile, End Tile ]
- Resolution: 29851.3516692501
- Scale: 1.12823780660964E8
-
Level ID: 5
[ Start Tile, End Tile ]
- Resolution: 7462.83791731252
- Scale: 2.8205945165241E7
-
Level ID: 6
[ Start Tile, End Tile ]
- Resolution: 3731.41895865639
- Scale: 1.4102972582621E7
- Format: JPEG
- Compression Quality: 75.0
- Origin: X: -2.8567784109255E7
Y: 3.2567784109255E7
- Spatial Reference: 5936
(5936)
LatestVCSWkid(0)
Storage Info:
- Storage Format: esriMapCacheStorageModeCompactV2
- Packet Size: 128
Initial Extent:
XMin: -1651641.6341137285
YMin: -2048985.0971874439
XMax: 5933130.548452236
YMax: 5971209.192155455
Spatial Reference: 5936
(5936)
LatestVCSWkid(0)
Full Extent:
XMin: -2623285.8808999993
YMin: -2623287.152999997
XMax: 6623285.880299997
YMax: 6623284.608199999
Spatial Reference: 5936
(5936)
LatestVCSWkid(0)
Units: esriMeters
Supported Image Format Types: PNG32,PNG24,PNG,JPG,DIB,TIFF,EMF,PS,PDF,GIF,SVG,SVGZ,BMP
Document Info:
Title: Arctic Imagery
Author:
Comments: <DIV STYLE="text-align:Left;font-size:12pt"><P><SPAN>Arctic Imagery provides 15m TerraColor imagery for the Arctic region. For more information on this map, including the terms of use, visit us online at https://goto.arcgisonline.com/maps/Arctic_Imagery</SPAN></P></DIV>
Subject: Provides 15m TerraColor imagery for the northern polar region.
Category:
Keywords: World,Global,Arctic
AntialiasingMode: Fast
TextAntialiasingMode: Force
Supports Dynamic Layers: false
MaxRecordCount: 2000
MaxSelectionCount: 2000
MaxImageHeight: 4096
MaxImageWidth: 4096
Supported Query Formats: JSON, geoJSON, PBF
Supports Query Data Elements: true
Min Scale: 0
Max Scale: 0
Supports Datum Transformation: true
Child Resources:
Info
Supported Operations:
Export Map
QueryLegends
Return Updates
Generate KML